BEGIN:VCALENDAR
VERSION:2.0
PRODID:-//Acro Insiders - ECPv6.15.13//NONSGML v1.0//EN
CALSCALE:GREGORIAN
METHOD:PUBLISH
X-WR-CALNAME:Acro Insiders
X-ORIGINAL-URL:https://acroinsiders.com
X-WR-CALDESC:Events for Acro Insiders
REFRESH-INTERVAL;VALUE=DURATION:PT1H
X-Robots-Tag:noindex
X-PUBLISHED-TTL:PT1H
BEGIN:VTIMEZONE
TZID:America/New_York
BEGIN:DAYLIGHT
TZOFFSETFROM:-0500
TZOFFSETTO:-0400
TZNAME:EDT
DTSTART:20250309T070000
END:DAYLIGHT
BEGIN:STANDARD
TZOFFSETFROM:-0400
TZOFFSETTO:-0500
TZNAME:EST
DTSTART:20251102T060000
END:STANDARD
BEGIN:DAYLIGHT
TZOFFSETFROM:-0500
TZOFFSETTO:-0400
TZNAME:EDT
DTSTART:20260308T070000
END:DAYLIGHT
BEGIN:STANDARD
TZOFFSETFROM:-0400
TZOFFSETTO:-0500
TZNAME:EST
DTSTART:20261101T060000
END:STANDARD
BEGIN:DAYLIGHT
TZOFFSETFROM:-0500
TZOFFSETTO:-0400
TZNAME:EDT
DTSTART:20270314T070000
END:DAYLIGHT
BEGIN:STANDARD
TZOFFSETFROM:-0400
TZOFFSETTO:-0500
TZNAME:EST
DTSTART:20271107T060000
END:STANDARD
END:VTIMEZONE
BEGIN:VEVENT
DTSTART;TZID=America/New_York:20260130T000000
DTEND;TZID=America/New_York:20260202T235959
DTSTAMP:20260419T231601
CREATED:20251227T140823Z
LAST-MODIFIED:20251227T140823Z
UID:1960-1769731200-1770076799@acroinsiders.com
SUMMARY:Acro Panchito Fest
DESCRIPTION:Acro Panchito Fest returns with four days of shared acroyoga practice\, community time\, and workshops. The festival promotes equity by offering “Local” and “Foreign” pricing tiers\, making the event financially accessible to participants from countries with different earning levels. Options include full acroyoga passes or Non-Acro Passes for those who want to engage in non-acro activities like salsa night\, variety shows\, and jams. Registration opens via their website.
URL:https://acroinsiders.com/event/acro-panchito-fest/
LOCATION:San Pancho\, San Francisco (San Pancho)\, Nayarit\, Mexico
CATEGORIES:Festival,North America
END:VEVENT
BEGIN:VEVENT
DTSTART;TZID=America/New_York:20260206T000000
DTEND;TZID=America/New_York:20260208T235959
DTSTAMP:20260419T231601
CREATED:20251227T140830Z
LAST-MODIFIED:20251227T140830Z
UID:1963-1770336000-1770595199@acroinsiders.com
SUMMARY:MexIcarian Convention
DESCRIPTION:Location: San Pancho\, Nayarit\, Mexico\nDates: February 6–8\, 2026 \nThe fourth edition of Mexicarian is a three-day acroyoga convention dedicated to whips\, pops\, and Icarian-style acrobatics. Hosted at La Bodega Teatro in San Pancho\, this high-energy gathering brings together teachers from around the world for intensive multi-level workshops. Participants can choose sessions suited to their level\, from foundational techniques to advanced “whicarians” and whip-pops. \nPrices are split between Local (in pesos) and Foreign (in USD) to keep the event financially inclusive. Early bird rates run until November 2\, 2025. The event does not include meals or accommodation\, and spots are confirmed after a non-refundable deposit. \nSan Pancho\, near Puerto Vallarta\, offers a tropical setting with beaches\, cafes\, and an active arts scene—making it an ideal place for both focused training and downtime between sessions.
URL:https://acroinsiders.com/event/mexicarian-convention/
LOCATION:San Pancho\, San Francisco (San Pancho)\, Nayarit\, Mexico
CATEGORIES:Festival,North America
END:VEVENT
END:VCALENDAR